BEGIN:VCALENDAR
VERSION:2.0
PRODID:-//Standing Together to End Sexual Assault | Santa Barbara Rape Crisis Center - ECPv6.15.16.1//NONSGML v1.0//EN
CALSCALE:GREGORIAN
METHOD:PUBLISH
X-WR-CALNAME:Standing Together to End Sexual Assault | Santa Barbara Rape Crisis Center
X-ORIGINAL-URL:https://sbstesa.org
X-WR-CALDESC:Events for Standing Together to End Sexual Assault | Santa Barbara Rape Crisis Center
REFRESH-INTERVAL;VALUE=DURATION:PT1H
X-Robots-Tag:noindex
X-PUBLISHED-TTL:PT1H
BEGIN:VTIMEZONE
TZID:UTC
BEGIN:STANDARD
TZOFFSETFROM:+0000
TZOFFSETTO:+0000
TZNAME:UTC
DTSTART:20240101T000000
END:STANDARD
END:VTIMEZONE
BEGIN:VEVENT
DTSTART;TZID=UTC:20250410T063000
DTEND;TZID=UTC:20250410T213000
DTSTAMP:20260421T031529
CREATED:20250311T001222Z
LAST-MODIFIED:20250311T001439Z
UID:7117-1744266600-1744320600@sbstesa.org
SUMMARY:Denim Party
DESCRIPTION:
URL:https://sbstesa.org/event/denim-party/
LOCATION:CA
END:VEVENT
END:VCALENDAR